BEGIN:VCALENDAR
VERSION:2.0
PRODID:-//Pebble Hill Church - ECPv6.15.20//NONSGML v1.0//EN
CALSCALE:GREGORIAN
METHOD:PUBLISH
X-WR-CALNAME:Pebble Hill Church
X-ORIGINAL-URL:https://www.pebblehillchurch.org
X-WR-CALDESC:Events for Pebble Hill Church
REFRESH-INTERVAL;VALUE=DURATION:PT1H
X-Robots-Tag:noindex
X-PUBLISHED-TTL:PT1H
BEGIN:VTIMEZONE
TZID:America/New_York
BEGIN:DAYLIGHT
TZOFFSETFROM:-0500
TZOFFSETTO:-0400
TZNAME:EDT
DTSTART:20290311T070000
END:DAYLIGHT
BEGIN:STANDARD
TZOFFSETFROM:-0400
TZOFFSETTO:-0500
TZNAME:EST
DTSTART:20291104T060000
END:STANDARD
BEGIN:DAYLIGHT
TZOFFSETFROM:-0500
TZOFFSETTO:-0400
TZNAME:EDT
DTSTART:20300310T070000
END:DAYLIGHT
BEGIN:STANDARD
TZOFFSETFROM:-0400
TZOFFSETTO:-0500
TZNAME:EST
DTSTART:20301103T060000
END:STANDARD
BEGIN:DAYLIGHT
TZOFFSETFROM:-0500
TZOFFSETTO:-0400
TZNAME:EDT
DTSTART:20310309T070000
END:DAYLIGHT
BEGIN:STANDARD
TZOFFSETFROM:-0400
TZOFFSETTO:-0500
TZNAME:EST
DTSTART:20311102T060000
END:STANDARD
END:VTIMEZONE
BEGIN:VEVENT
DTSTART;TZID=America/New_York:20300206T193000
DTEND;TZID=America/New_York:20300206T203000
DTSTAMP:20260425T134745
CREATED:20260415T120119Z
LAST-MODIFIED:20260415T120124Z
UID:10345855-1896636600-1896640200@www.pebblehillchurch.org
SUMMARY:7:30 PM  12-step: "Freedom to Live" NA
DESCRIPTION:Lower Red Barn: This is an NA 12-step support group.
URL:https://www.pebblehillchurch.org/event/12-step-freedom-to-live-na-2019-06-19-2/2030-02-06/
LOCATION:PHC Upper Red Barn\, 320 Edison-Furlong Road\, Doylestown\, PA\, 18901\, United States
CATEGORIES:Groups
GEO:40.2874777;-75.1103893
X-APPLE-STRUCTURED-LOCATION;VALUE=URI;X-ADDRESS=PHC Upper Red Barn 320 Edison-Furlong Road Doylestown PA 18901 United States;X-APPLE-RADIUS=500;X-TITLE=320 Edison-Furlong Road:geo:-75.1103893,40.2874777
END:VEVENT
BEGIN:VEVENT
DTSTART;TZID=America/New_York:20300213T193000
DTEND;TZID=America/New_York:20300213T203000
DTSTAMP:20260425T134745
CREATED:20260415T120119Z
LAST-MODIFIED:20260415T120124Z
UID:10345856-1897241400-1897245000@www.pebblehillchurch.org
SUMMARY:7:30 PM  12-step: "Freedom to Live" NA
DESCRIPTION:Lower Red Barn: This is an NA 12-step support group.
URL:https://www.pebblehillchurch.org/event/12-step-freedom-to-live-na-2019-06-19-2/2030-02-13/
LOCATION:PHC Upper Red Barn\, 320 Edison-Furlong Road\, Doylestown\, PA\, 18901\, United States
CATEGORIES:Groups
GEO:40.2874777;-75.1103893
X-APPLE-STRUCTURED-LOCATION;VALUE=URI;X-ADDRESS=PHC Upper Red Barn 320 Edison-Furlong Road Doylestown PA 18901 United States;X-APPLE-RADIUS=500;X-TITLE=320 Edison-Furlong Road:geo:-75.1103893,40.2874777
END:VEVENT
BEGIN:VEVENT
DTSTART;TZID=America/New_York:20300220T193000
DTEND;TZID=America/New_York:20300220T203000
DTSTAMP:20260425T134745
CREATED:20260415T120119Z
LAST-MODIFIED:20260415T120124Z
UID:10345857-1897846200-1897849800@www.pebblehillchurch.org
SUMMARY:7:30 PM  12-step: "Freedom to Live" NA
DESCRIPTION:Lower Red Barn: This is an NA 12-step support group.
URL:https://www.pebblehillchurch.org/event/12-step-freedom-to-live-na-2019-06-19-2/2030-02-20/
LOCATION:PHC Upper Red Barn\, 320 Edison-Furlong Road\, Doylestown\, PA\, 18901\, United States
CATEGORIES:Groups
GEO:40.2874777;-75.1103893
X-APPLE-STRUCTURED-LOCATION;VALUE=URI;X-ADDRESS=PHC Upper Red Barn 320 Edison-Furlong Road Doylestown PA 18901 United States;X-APPLE-RADIUS=500;X-TITLE=320 Edison-Furlong Road:geo:-75.1103893,40.2874777
END:VEVENT
BEGIN:VEVENT
DTSTART;TZID=America/New_York:20300227T193000
DTEND;TZID=America/New_York:20300227T203000
DTSTAMP:20260425T134745
CREATED:20260415T120119Z
LAST-MODIFIED:20260415T120124Z
UID:10345858-1898451000-1898454600@www.pebblehillchurch.org
SUMMARY:7:30 PM  12-step: "Freedom to Live" NA
DESCRIPTION:Lower Red Barn: This is an NA 12-step support group.
URL:https://www.pebblehillchurch.org/event/12-step-freedom-to-live-na-2019-06-19-2/2030-02-27/
LOCATION:PHC Upper Red Barn\, 320 Edison-Furlong Road\, Doylestown\, PA\, 18901\, United States
CATEGORIES:Groups
GEO:40.2874777;-75.1103893
X-APPLE-STRUCTURED-LOCATION;VALUE=URI;X-ADDRESS=PHC Upper Red Barn 320 Edison-Furlong Road Doylestown PA 18901 United States;X-APPLE-RADIUS=500;X-TITLE=320 Edison-Furlong Road:geo:-75.1103893,40.2874777
END:VEVENT
END:VCALENDAR