BEGIN:VCALENDAR
VERSION:2.0
PRODID:-//Pebble Hill Church - ECPv6.15.20//NONSGML v1.0//EN
CALSCALE:GREGORIAN
METHOD:PUBLISH
X-WR-CALNAME:Pebble Hill Church
X-ORIGINAL-URL:https://www.pebblehillchurch.org
X-WR-CALDESC:Events for Pebble Hill Church
REFRESH-INTERVAL;VALUE=DURATION:PT1H
X-Robots-Tag:noindex
X-PUBLISHED-TTL:PT1H
BEGIN:VTIMEZONE
TZID:America/New_York
BEGIN:DAYLIGHT
TZOFFSETFROM:-0500
TZOFFSETTO:-0400
TZNAME:EDT
DTSTART:20290311T070000
END:DAYLIGHT
BEGIN:STANDARD
TZOFFSETFROM:-0400
TZOFFSETTO:-0500
TZNAME:EST
DTSTART:20291104T060000
END:STANDARD
BEGIN:DAYLIGHT
TZOFFSETFROM:-0500
TZOFFSETTO:-0400
TZNAME:EDT
DTSTART:20300310T070000
END:DAYLIGHT
BEGIN:STANDARD
TZOFFSETFROM:-0400
TZOFFSETTO:-0500
TZNAME:EST
DTSTART:20301103T060000
END:STANDARD
BEGIN:DAYLIGHT
TZOFFSETFROM:-0500
TZOFFSETTO:-0400
TZNAME:EDT
DTSTART:20310309T070000
END:DAYLIGHT
BEGIN:STANDARD
TZOFFSETFROM:-0400
TZOFFSETTO:-0500
TZNAME:EST
DTSTART:20311102T060000
END:STANDARD
END:VTIMEZONE
BEGIN:VEVENT
DTSTART;TZID=America/New_York:20300102T193000
DTEND;TZID=America/New_York:20300102T203000
DTSTAMP:20260425T120123
CREATED:20260415T120119Z
LAST-MODIFIED:20260415T120124Z
UID:10345850-1893612600-1893616200@www.pebblehillchurch.org
SUMMARY:7:30 PM  12-step: "Freedom to Live" NA
DESCRIPTION:Lower Red Barn: This is an NA 12-step support group.
URL:https://www.pebblehillchurch.org/event/12-step-freedom-to-live-na-2019-06-19-2/2030-01-02/
LOCATION:PHC Upper Red Barn\, 320 Edison-Furlong Road\, Doylestown\, PA\, 18901\, United States
CATEGORIES:Groups
GEO:40.2874777;-75.1103893
X-APPLE-STRUCTURED-LOCATION;VALUE=URI;X-ADDRESS=PHC Upper Red Barn 320 Edison-Furlong Road Doylestown PA 18901 United States;X-APPLE-RADIUS=500;X-TITLE=320 Edison-Furlong Road:geo:-75.1103893,40.2874777
END:VEVENT
BEGIN:VEVENT
DTSTART;TZID=America/New_York:20300109T193000
DTEND;TZID=America/New_York:20300109T203000
DTSTAMP:20260425T120123
CREATED:20260415T120119Z
LAST-MODIFIED:20260415T120124Z
UID:10345851-1894217400-1894221000@www.pebblehillchurch.org
SUMMARY:7:30 PM  12-step: "Freedom to Live" NA
DESCRIPTION:Lower Red Barn: This is an NA 12-step support group.
URL:https://www.pebblehillchurch.org/event/12-step-freedom-to-live-na-2019-06-19-2/2030-01-09/
LOCATION:PHC Upper Red Barn\, 320 Edison-Furlong Road\, Doylestown\, PA\, 18901\, United States
CATEGORIES:Groups
GEO:40.2874777;-75.1103893
X-APPLE-STRUCTURED-LOCATION;VALUE=URI;X-ADDRESS=PHC Upper Red Barn 320 Edison-Furlong Road Doylestown PA 18901 United States;X-APPLE-RADIUS=500;X-TITLE=320 Edison-Furlong Road:geo:-75.1103893,40.2874777
END:VEVENT
BEGIN:VEVENT
DTSTART;TZID=America/New_York:20300116T193000
DTEND;TZID=America/New_York:20300116T203000
DTSTAMP:20260425T120123
CREATED:20260415T120119Z
LAST-MODIFIED:20260415T120124Z
UID:10345852-1894822200-1894825800@www.pebblehillchurch.org
SUMMARY:7:30 PM  12-step: "Freedom to Live" NA
DESCRIPTION:Lower Red Barn: This is an NA 12-step support group.
URL:https://www.pebblehillchurch.org/event/12-step-freedom-to-live-na-2019-06-19-2/2030-01-16/
LOCATION:PHC Upper Red Barn\, 320 Edison-Furlong Road\, Doylestown\, PA\, 18901\, United States
CATEGORIES:Groups
GEO:40.2874777;-75.1103893
X-APPLE-STRUCTURED-LOCATION;VALUE=URI;X-ADDRESS=PHC Upper Red Barn 320 Edison-Furlong Road Doylestown PA 18901 United States;X-APPLE-RADIUS=500;X-TITLE=320 Edison-Furlong Road:geo:-75.1103893,40.2874777
END:VEVENT
BEGIN:VEVENT
DTSTART;TZID=America/New_York:20300123T193000
DTEND;TZID=America/New_York:20300123T203000
DTSTAMP:20260425T120123
CREATED:20260415T120119Z
LAST-MODIFIED:20260415T120124Z
UID:10345853-1895427000-1895430600@www.pebblehillchurch.org
SUMMARY:7:30 PM  12-step: "Freedom to Live" NA
DESCRIPTION:Lower Red Barn: This is an NA 12-step support group.
URL:https://www.pebblehillchurch.org/event/12-step-freedom-to-live-na-2019-06-19-2/2030-01-23/
LOCATION:PHC Upper Red Barn\, 320 Edison-Furlong Road\, Doylestown\, PA\, 18901\, United States
CATEGORIES:Groups
GEO:40.2874777;-75.1103893
X-APPLE-STRUCTURED-LOCATION;VALUE=URI;X-ADDRESS=PHC Upper Red Barn 320 Edison-Furlong Road Doylestown PA 18901 United States;X-APPLE-RADIUS=500;X-TITLE=320 Edison-Furlong Road:geo:-75.1103893,40.2874777
END:VEVENT
BEGIN:VEVENT
DTSTART;TZID=America/New_York:20300130T193000
DTEND;TZID=America/New_York:20300130T203000
DTSTAMP:20260425T120123
CREATED:20260415T120119Z
LAST-MODIFIED:20260415T120124Z
UID:10345854-1896031800-1896035400@www.pebblehillchurch.org
SUMMARY:7:30 PM  12-step: "Freedom to Live" NA
DESCRIPTION:Lower Red Barn: This is an NA 12-step support group.
URL:https://www.pebblehillchurch.org/event/12-step-freedom-to-live-na-2019-06-19-2/2030-01-30/
LOCATION:PHC Upper Red Barn\, 320 Edison-Furlong Road\, Doylestown\, PA\, 18901\, United States
CATEGORIES:Groups
GEO:40.2874777;-75.1103893
X-APPLE-STRUCTURED-LOCATION;VALUE=URI;X-ADDRESS=PHC Upper Red Barn 320 Edison-Furlong Road Doylestown PA 18901 United States;X-APPLE-RADIUS=500;X-TITLE=320 Edison-Furlong Road:geo:-75.1103893,40.2874777
END:VEVENT
END:VCALENDAR