BEGIN:VCALENDAR
VERSION:2.0
PRODID:-//Pebble Hill Church - ECPv6.15.20//NONSGML v1.0//EN
CALSCALE:GREGORIAN
METHOD:PUBLISH
X-ORIGINAL-URL:https://www.pebblehillchurch.org
X-WR-CALDESC:Events for Pebble Hill Church
REFRESH-INTERVAL;VALUE=DURATION:PT1H
X-Robots-Tag:noindex
X-PUBLISHED-TTL:PT1H
BEGIN:VTIMEZONE
TZID:America/New_York
BEGIN:DAYLIGHT
TZOFFSETFROM:-0500
TZOFFSETTO:-0400
TZNAME:EDT
DTSTART:20280312T070000
END:DAYLIGHT
BEGIN:STANDARD
TZOFFSETFROM:-0400
TZOFFSETTO:-0500
TZNAME:EST
DTSTART:20281105T060000
END:STANDARD
BEGIN:DAYLIGHT
TZOFFSETFROM:-0500
TZOFFSETTO:-0400
TZNAME:EDT
DTSTART:20290311T070000
END:DAYLIGHT
BEGIN:STANDARD
TZOFFSETFROM:-0400
TZOFFSETTO:-0500
TZNAME:EST
DTSTART:20291104T060000
END:STANDARD
BEGIN:DAYLIGHT
TZOFFSETFROM:-0500
TZOFFSETTO:-0400
TZNAME:EDT
DTSTART:20300310T070000
END:DAYLIGHT
BEGIN:STANDARD
TZOFFSETFROM:-0400
TZOFFSETTO:-0500
TZNAME:EST
DTSTART:20301103T060000
END:STANDARD
END:VTIMEZONE
BEGIN:VEVENT
DTSTART;TZID=America/New_York:20291003T193000
DTEND;TZID=America/New_York:20291003T203000
DTSTAMP:20260425T072111
CREATED:20260415T120119Z
LAST-MODIFIED:20260415T120124Z
UID:10345837-1885750200-1885753800@www.pebblehillchurch.org
SUMMARY:7:30 PM  12-step: "Freedom to Live" NA
DESCRIPTION:Lower Red Barn: This is an NA 12-step support group.
URL:https://www.pebblehillchurch.org/event/12-step-freedom-to-live-na-2019-06-19-2/2029-10-03/
LOCATION:PHC Upper Red Barn\, 320 Edison-Furlong Road\, Doylestown\, PA\, 18901\, United States
CATEGORIES:Groups
GEO:40.2874777;-75.1103893
X-APPLE-STRUCTURED-LOCATION;VALUE=URI;X-ADDRESS=PHC Upper Red Barn 320 Edison-Furlong Road Doylestown PA 18901 United States;X-APPLE-RADIUS=500;X-TITLE=320 Edison-Furlong Road:geo:-75.1103893,40.2874777
END:VEVENT
BEGIN:VEVENT
DTSTART;TZID=America/New_York:20291010T193000
DTEND;TZID=America/New_York:20291010T203000
DTSTAMP:20260425T072111
CREATED:20260415T120119Z
LAST-MODIFIED:20260415T120124Z
UID:10345838-1886355000-1886358600@www.pebblehillchurch.org
SUMMARY:7:30 PM  12-step: "Freedom to Live" NA
DESCRIPTION:Lower Red Barn: This is an NA 12-step support group.
URL:https://www.pebblehillchurch.org/event/12-step-freedom-to-live-na-2019-06-19-2/2029-10-10/
LOCATION:PHC Upper Red Barn\, 320 Edison-Furlong Road\, Doylestown\, PA\, 18901\, United States
CATEGORIES:Groups
GEO:40.2874777;-75.1103893
X-APPLE-STRUCTURED-LOCATION;VALUE=URI;X-ADDRESS=PHC Upper Red Barn 320 Edison-Furlong Road Doylestown PA 18901 United States;X-APPLE-RADIUS=500;X-TITLE=320 Edison-Furlong Road:geo:-75.1103893,40.2874777
END:VEVENT
BEGIN:VEVENT
DTSTART;TZID=America/New_York:20291017T193000
DTEND;TZID=America/New_York:20291017T203000
DTSTAMP:20260425T072111
CREATED:20260415T120119Z
LAST-MODIFIED:20260415T120124Z
UID:10345839-1886959800-1886963400@www.pebblehillchurch.org
SUMMARY:7:30 PM  12-step: "Freedom to Live" NA
DESCRIPTION:Lower Red Barn: This is an NA 12-step support group.
URL:https://www.pebblehillchurch.org/event/12-step-freedom-to-live-na-2019-06-19-2/2029-10-17/
LOCATION:PHC Upper Red Barn\, 320 Edison-Furlong Road\, Doylestown\, PA\, 18901\, United States
CATEGORIES:Groups
GEO:40.2874777;-75.1103893
X-APPLE-STRUCTURED-LOCATION;VALUE=URI;X-ADDRESS=PHC Upper Red Barn 320 Edison-Furlong Road Doylestown PA 18901 United States;X-APPLE-RADIUS=500;X-TITLE=320 Edison-Furlong Road:geo:-75.1103893,40.2874777
END:VEVENT
BEGIN:VEVENT
DTSTART;TZID=America/New_York:20291024T193000
DTEND;TZID=America/New_York:20291024T203000
DTSTAMP:20260425T072111
CREATED:20260415T120119Z
LAST-MODIFIED:20260415T120124Z
UID:10345840-1887564600-1887568200@www.pebblehillchurch.org
SUMMARY:7:30 PM  12-step: "Freedom to Live" NA
DESCRIPTION:Lower Red Barn: This is an NA 12-step support group.
URL:https://www.pebblehillchurch.org/event/12-step-freedom-to-live-na-2019-06-19-2/2029-10-24/
LOCATION:PHC Upper Red Barn\, 320 Edison-Furlong Road\, Doylestown\, PA\, 18901\, United States
CATEGORIES:Groups
GEO:40.2874777;-75.1103893
X-APPLE-STRUCTURED-LOCATION;VALUE=URI;X-ADDRESS=PHC Upper Red Barn 320 Edison-Furlong Road Doylestown PA 18901 United States;X-APPLE-RADIUS=500;X-TITLE=320 Edison-Furlong Road:geo:-75.1103893,40.2874777
END:VEVENT
BEGIN:VEVENT
DTSTART;TZID=America/New_York:20291031T193000
DTEND;TZID=America/New_York:20291031T203000
DTSTAMP:20260425T072111
CREATED:20260415T120119Z
LAST-MODIFIED:20260415T120124Z
UID:10345841-1888169400-1888173000@www.pebblehillchurch.org
SUMMARY:7:30 PM  12-step: "Freedom to Live" NA
DESCRIPTION:Lower Red Barn: This is an NA 12-step support group.
URL:https://www.pebblehillchurch.org/event/12-step-freedom-to-live-na-2019-06-19-2/2029-10-31/
LOCATION:PHC Upper Red Barn\, 320 Edison-Furlong Road\, Doylestown\, PA\, 18901\, United States
CATEGORIES:Groups
GEO:40.2874777;-75.1103893
X-APPLE-STRUCTURED-LOCATION;VALUE=URI;X-ADDRESS=PHC Upper Red Barn 320 Edison-Furlong Road Doylestown PA 18901 United States;X-APPLE-RADIUS=500;X-TITLE=320 Edison-Furlong Road:geo:-75.1103893,40.2874777
END:VEVENT
END:VCALENDAR