BEGIN:VCALENDAR
VERSION:2.0
PRODID:-//Pebble Hill Church - ECPv6.15.20//NONSGML v1.0//EN
CALSCALE:GREGORIAN
METHOD:PUBLISH
X-ORIGINAL-URL:https://www.pebblehillchurch.org
X-WR-CALDESC:Events for Pebble Hill Church
REFRESH-INTERVAL;VALUE=DURATION:PT1H
X-Robots-Tag:noindex
X-PUBLISHED-TTL:PT1H
BEGIN:VTIMEZONE
TZID:America/New_York
BEGIN:DAYLIGHT
TZOFFSETFROM:-0500
TZOFFSETTO:-0400
TZNAME:EDT
DTSTART:20280312T070000
END:DAYLIGHT
BEGIN:STANDARD
TZOFFSETFROM:-0400
TZOFFSETTO:-0500
TZNAME:EST
DTSTART:20281105T060000
END:STANDARD
BEGIN:DAYLIGHT
TZOFFSETFROM:-0500
TZOFFSETTO:-0400
TZNAME:EDT
DTSTART:20290311T070000
END:DAYLIGHT
BEGIN:STANDARD
TZOFFSETFROM:-0400
TZOFFSETTO:-0500
TZNAME:EST
DTSTART:20291104T060000
END:STANDARD
BEGIN:DAYLIGHT
TZOFFSETFROM:-0500
TZOFFSETTO:-0400
TZNAME:EDT
DTSTART:20300310T070000
END:DAYLIGHT
BEGIN:STANDARD
TZOFFSETFROM:-0400
TZOFFSETTO:-0500
TZNAME:EST
DTSTART:20301103T060000
END:STANDARD
END:VTIMEZONE
BEGIN:VEVENT
DTSTART;TZID=America/New_York:20290103T193000
DTEND;TZID=America/New_York:20290103T203000
DTSTAMP:20260424T173252
CREATED:20260415T120119Z
LAST-MODIFIED:20260415T120124Z
UID:10345798-1862163000-1862166600@www.pebblehillchurch.org
SUMMARY:7:30 PM  12-step: "Freedom to Live" NA
DESCRIPTION:Lower Red Barn: This is an NA 12-step support group.
URL:https://www.pebblehillchurch.org/event/12-step-freedom-to-live-na-2019-06-19-2/2029-01-03/
LOCATION:PHC Upper Red Barn\, 320 Edison-Furlong Road\, Doylestown\, PA\, 18901\, United States
CATEGORIES:Groups
GEO:40.2874777;-75.1103893
X-APPLE-STRUCTURED-LOCATION;VALUE=URI;X-ADDRESS=PHC Upper Red Barn 320 Edison-Furlong Road Doylestown PA 18901 United States;X-APPLE-RADIUS=500;X-TITLE=320 Edison-Furlong Road:geo:-75.1103893,40.2874777
END:VEVENT
BEGIN:VEVENT
DTSTART;TZID=America/New_York:20290110T193000
DTEND;TZID=America/New_York:20290110T203000
DTSTAMP:20260424T173252
CREATED:20260415T120119Z
LAST-MODIFIED:20260415T120124Z
UID:10345799-1862767800-1862771400@www.pebblehillchurch.org
SUMMARY:7:30 PM  12-step: "Freedom to Live" NA
DESCRIPTION:Lower Red Barn: This is an NA 12-step support group.
URL:https://www.pebblehillchurch.org/event/12-step-freedom-to-live-na-2019-06-19-2/2029-01-10/
LOCATION:PHC Upper Red Barn\, 320 Edison-Furlong Road\, Doylestown\, PA\, 18901\, United States
CATEGORIES:Groups
GEO:40.2874777;-75.1103893
X-APPLE-STRUCTURED-LOCATION;VALUE=URI;X-ADDRESS=PHC Upper Red Barn 320 Edison-Furlong Road Doylestown PA 18901 United States;X-APPLE-RADIUS=500;X-TITLE=320 Edison-Furlong Road:geo:-75.1103893,40.2874777
END:VEVENT
BEGIN:VEVENT
DTSTART;TZID=America/New_York:20290117T193000
DTEND;TZID=America/New_York:20290117T203000
DTSTAMP:20260424T173252
CREATED:20260415T120119Z
LAST-MODIFIED:20260415T120124Z
UID:10345800-1863372600-1863376200@www.pebblehillchurch.org
SUMMARY:7:30 PM  12-step: "Freedom to Live" NA
DESCRIPTION:Lower Red Barn: This is an NA 12-step support group.
URL:https://www.pebblehillchurch.org/event/12-step-freedom-to-live-na-2019-06-19-2/2029-01-17/
LOCATION:PHC Upper Red Barn\, 320 Edison-Furlong Road\, Doylestown\, PA\, 18901\, United States
CATEGORIES:Groups
GEO:40.2874777;-75.1103893
X-APPLE-STRUCTURED-LOCATION;VALUE=URI;X-ADDRESS=PHC Upper Red Barn 320 Edison-Furlong Road Doylestown PA 18901 United States;X-APPLE-RADIUS=500;X-TITLE=320 Edison-Furlong Road:geo:-75.1103893,40.2874777
END:VEVENT
BEGIN:VEVENT
DTSTART;TZID=America/New_York:20290124T193000
DTEND;TZID=America/New_York:20290124T203000
DTSTAMP:20260424T173252
CREATED:20260415T120119Z
LAST-MODIFIED:20260415T120124Z
UID:10345801-1863977400-1863981000@www.pebblehillchurch.org
SUMMARY:7:30 PM  12-step: "Freedom to Live" NA
DESCRIPTION:Lower Red Barn: This is an NA 12-step support group.
URL:https://www.pebblehillchurch.org/event/12-step-freedom-to-live-na-2019-06-19-2/2029-01-24/
LOCATION:PHC Upper Red Barn\, 320 Edison-Furlong Road\, Doylestown\, PA\, 18901\, United States
CATEGORIES:Groups
GEO:40.2874777;-75.1103893
X-APPLE-STRUCTURED-LOCATION;VALUE=URI;X-ADDRESS=PHC Upper Red Barn 320 Edison-Furlong Road Doylestown PA 18901 United States;X-APPLE-RADIUS=500;X-TITLE=320 Edison-Furlong Road:geo:-75.1103893,40.2874777
END:VEVENT
BEGIN:VEVENT
DTSTART;TZID=America/New_York:20290131T193000
DTEND;TZID=America/New_York:20290131T203000
DTSTAMP:20260424T173252
CREATED:20260415T120119Z
LAST-MODIFIED:20260415T120124Z
UID:10345802-1864582200-1864585800@www.pebblehillchurch.org
SUMMARY:7:30 PM  12-step: "Freedom to Live" NA
DESCRIPTION:Lower Red Barn: This is an NA 12-step support group.
URL:https://www.pebblehillchurch.org/event/12-step-freedom-to-live-na-2019-06-19-2/2029-01-31/
LOCATION:PHC Upper Red Barn\, 320 Edison-Furlong Road\, Doylestown\, PA\, 18901\, United States
CATEGORIES:Groups
GEO:40.2874777;-75.1103893
X-APPLE-STRUCTURED-LOCATION;VALUE=URI;X-ADDRESS=PHC Upper Red Barn 320 Edison-Furlong Road Doylestown PA 18901 United States;X-APPLE-RADIUS=500;X-TITLE=320 Edison-Furlong Road:geo:-75.1103893,40.2874777
END:VEVENT
END:VCALENDAR