BEGIN:VCALENDAR
VERSION:2.0
PRODID:-//Pebble Hill Church - ECPv6.15.20//NONSGML v1.0//EN
CALSCALE:GREGORIAN
METHOD:PUBLISH
X-WR-CALNAME:Pebble Hill Church
X-ORIGINAL-URL:https://www.pebblehillchurch.org
X-WR-CALDESC:Events for Pebble Hill Church
REFRESH-INTERVAL;VALUE=DURATION:PT1H
X-Robots-Tag:noindex
X-PUBLISHED-TTL:PT1H
BEGIN:VTIMEZONE
TZID:America/New_York
BEGIN:DAYLIGHT
TZOFFSETFROM:-0500
TZOFFSETTO:-0400
TZNAME:EDT
DTSTART:20270314T070000
END:DAYLIGHT
BEGIN:STANDARD
TZOFFSETFROM:-0400
TZOFFSETTO:-0500
TZNAME:EST
DTSTART:20271107T060000
END:STANDARD
BEGIN:DAYLIGHT
TZOFFSETFROM:-0500
TZOFFSETTO:-0400
TZNAME:EDT
DTSTART:20280312T070000
END:DAYLIGHT
BEGIN:STANDARD
TZOFFSETFROM:-0400
TZOFFSETTO:-0500
TZNAME:EST
DTSTART:20281105T060000
END:STANDARD
BEGIN:DAYLIGHT
TZOFFSETFROM:-0500
TZOFFSETTO:-0400
TZNAME:EDT
DTSTART:20290311T070000
END:DAYLIGHT
BEGIN:STANDARD
TZOFFSETFROM:-0400
TZOFFSETTO:-0500
TZNAME:EST
DTSTART:20291104T060000
END:STANDARD
END:VTIMEZONE
BEGIN:VEVENT
DTSTART;TZID=America/New_York:20280607T193000
DTEND;TZID=America/New_York:20280607T203000
DTSTAMP:20260424T042324
CREATED:20260415T120119Z
LAST-MODIFIED:20260415T120124Z
UID:10008315-1844019000-1844022600@www.pebblehillchurch.org
SUMMARY:7:30 PM  12-step: "Freedom to Live" NA
DESCRIPTION:Lower Red Barn: This is an NA 12-step support group.
URL:https://www.pebblehillchurch.org/event/12-step-freedom-to-live-na-2019-06-19-2/2028-06-07/
LOCATION:PHC Upper Red Barn\, 320 Edison-Furlong Road\, Doylestown\, PA\, 18901\, United States
CATEGORIES:Groups
GEO:40.2874777;-75.1103893
X-APPLE-STRUCTURED-LOCATION;VALUE=URI;X-ADDRESS=PHC Upper Red Barn 320 Edison-Furlong Road Doylestown PA 18901 United States;X-APPLE-RADIUS=500;X-TITLE=320 Edison-Furlong Road:geo:-75.1103893,40.2874777
END:VEVENT
BEGIN:VEVENT
DTSTART;TZID=America/New_York:20280614T193000
DTEND;TZID=America/New_York:20280614T203000
DTSTAMP:20260424T042324
CREATED:20260415T120119Z
LAST-MODIFIED:20260415T120124Z
UID:10008316-1844623800-1844627400@www.pebblehillchurch.org
SUMMARY:7:30 PM  12-step: "Freedom to Live" NA
DESCRIPTION:Lower Red Barn: This is an NA 12-step support group.
URL:https://www.pebblehillchurch.org/event/12-step-freedom-to-live-na-2019-06-19-2/2028-06-14/
LOCATION:PHC Upper Red Barn\, 320 Edison-Furlong Road\, Doylestown\, PA\, 18901\, United States
CATEGORIES:Groups
GEO:40.2874777;-75.1103893
X-APPLE-STRUCTURED-LOCATION;VALUE=URI;X-ADDRESS=PHC Upper Red Barn 320 Edison-Furlong Road Doylestown PA 18901 United States;X-APPLE-RADIUS=500;X-TITLE=320 Edison-Furlong Road:geo:-75.1103893,40.2874777
END:VEVENT
BEGIN:VEVENT
DTSTART;TZID=America/New_York:20280621T193000
DTEND;TZID=America/New_York:20280621T203000
DTSTAMP:20260424T042324
CREATED:20260415T120119Z
LAST-MODIFIED:20260415T120124Z
UID:10008317-1845228600-1845232200@www.pebblehillchurch.org
SUMMARY:7:30 PM  12-step: "Freedom to Live" NA
DESCRIPTION:Lower Red Barn: This is an NA 12-step support group.
URL:https://www.pebblehillchurch.org/event/12-step-freedom-to-live-na-2019-06-19-2/2028-06-21/
LOCATION:PHC Upper Red Barn\, 320 Edison-Furlong Road\, Doylestown\, PA\, 18901\, United States
CATEGORIES:Groups
GEO:40.2874777;-75.1103893
X-APPLE-STRUCTURED-LOCATION;VALUE=URI;X-ADDRESS=PHC Upper Red Barn 320 Edison-Furlong Road Doylestown PA 18901 United States;X-APPLE-RADIUS=500;X-TITLE=320 Edison-Furlong Road:geo:-75.1103893,40.2874777
END:VEVENT
BEGIN:VEVENT
DTSTART;TZID=America/New_York:20280628T193000
DTEND;TZID=America/New_York:20280628T203000
DTSTAMP:20260424T042324
CREATED:20260415T120119Z
LAST-MODIFIED:20260415T120124Z
UID:10008318-1845833400-1845837000@www.pebblehillchurch.org
SUMMARY:7:30 PM  12-step: "Freedom to Live" NA
DESCRIPTION:Lower Red Barn: This is an NA 12-step support group.
URL:https://www.pebblehillchurch.org/event/12-step-freedom-to-live-na-2019-06-19-2/2028-06-28/
LOCATION:PHC Upper Red Barn\, 320 Edison-Furlong Road\, Doylestown\, PA\, 18901\, United States
CATEGORIES:Groups
GEO:40.2874777;-75.1103893
X-APPLE-STRUCTURED-LOCATION;VALUE=URI;X-ADDRESS=PHC Upper Red Barn 320 Edison-Furlong Road Doylestown PA 18901 United States;X-APPLE-RADIUS=500;X-TITLE=320 Edison-Furlong Road:geo:-75.1103893,40.2874777
END:VEVENT
END:VCALENDAR